BEGIN:VCALENDAR
VERSION:2.0
PRODID:-//Plone.org//NONSGML plone.app.event//EN
X-WR-TIMEZONE:Europe/Zurich
BEGIN:VEVENT
SUMMARY:Maria Empfängnis (schulfrei)
DTSTART;VALUE=DATE:20221208
DTEND;VALUE=DATE:20221209
DTSTAMP;VALUE=DATE-TIME:20260424T004824Z
UID:46d504c2b9d448acb7eae18d1a397faf@127.0.0.1:6081
CREATED;VALUE=DATE-TIME:20220711T203459Z
LAST-MODIFIED;VALUE=DATE-TIME:20220711T203505Z
URL:https://gymnasium.ai.ch/nuetzliches/termine/maria-empfaengnis-schulfre
 i-2
END:VEVENT
END:VCALENDAR
