BEGIN:VCALENDAR
VERSION:2.0
PRODID:-//Plone.org//NONSGML plone.app.event//EN
X-WR-TIMEZONE:Europe/Zurich
BEGIN:VEVENT
SUMMARY:Maria Empfängnis (schulfrei)
DTSTART;VALUE=DATE:20231208
DTEND;VALUE=DATE:20231209
DTSTAMP;VALUE=DATE-TIME:20260424T005401Z
UID:ed66b3da8dbe438fa1872be1409d7e32@127.0.0.1:6081
CREATED;VALUE=DATE-TIME:20230712T090948Z
LAST-MODIFIED;VALUE=DATE-TIME:20230712T090953Z
URL:https://gymnasium.ai.ch/nuetzliches/termine/maria-empfaengnis-schulfre
 i-3
END:VEVENT
END:VCALENDAR
