BEGIN:VCALENDAR
VERSION:2.0
PRODID:-//Plone.org//NONSGML plone.app.event//EN
X-WR-TIMEZONE:Europe/Zurich
BEGIN:VEVENT
SUMMARY:Maria Empfängnis (schulfrei)
DTSTART;VALUE=DATE:20251208
DTEND;VALUE=DATE:20251209
DTSTAMP;VALUE=DATE-TIME:20260423T231614Z
UID:8eff0e799210467ba39b88f60867ce48@127.0.0.1:6081
CREATED;VALUE=DATE-TIME:20250719T202543Z
LAST-MODIFIED;VALUE=DATE-TIME:20250719T202554Z
URL:https://gymnasium.ai.ch/nuetzliches/termine/maria-empfaengnis-schulfre
 i-4
END:VEVENT
END:VCALENDAR
