BEGIN:VCALENDAR
VERSION:2.0
PRODID:-//Plone.org//NONSGML plone.app.event//EN
X-WR-TIMEZONE:Europe/Zurich
BEGIN:VEVENT
SUMMARY:Maria Empfängnis (schulfrei)
DTSTART;VALUE=DATE:20201207
DTEND;VALUE=DATE:20201209
DTSTAMP;VALUE=DATE-TIME:20260423T231614Z
UID:10c59cbcddc24056a7970c4569a7067a@127.0.0.1:10150
CREATED;VALUE=DATE-TIME:20200911T142924Z
LAST-MODIFIED;VALUE=DATE-TIME:20200911T142929Z
URL:https://gymnasium.ai.ch/nuetzliches/termine/maria-empfaengnis-schulfre
 i
END:VEVENT
END:VCALENDAR
