BEGIN:VCALENDAR
VERSION:2.0
PRODID:-//Plone.org//NONSGML plone.app.event//EN
X-WR-TIMEZONE:Europe/Zurich
BEGIN:VEVENT
SUMMARY:Maria Himmelfahrt (schulfrei)
DTSTART;VALUE=DATE:20190814
DTEND;VALUE=DATE:20190816
DTSTAMP;VALUE=DATE-TIME:20260423T231606Z
UID:058b332b210e42d89b7a83da6eaef661@127.0.0.1:10150
CREATED;VALUE=DATE-TIME:20190707T112025Z
LAST-MODIFIED;VALUE=DATE-TIME:20190707T112029Z
URL:https://gymnasium.ai.ch/nuetzliches/termine/maria-himmelfahrt-schulfre
 i-2
END:VEVENT
END:VCALENDAR
