BEGIN:VCALENDAR
VERSION:2.0
PRODID:-//Plone.org//NONSGML plone.app.event//EN
X-WR-TIMEZONE:Europe/Zurich
BEGIN:VEVENT
SUMMARY:Maria Himmelfahrt (schulfrei)
DTSTART;VALUE=DATE:20220815
DTEND;VALUE=DATE:20220816
DTSTAMP;VALUE=DATE-TIME:20260423T231616Z
UID:ba44724aa12b4eeca193a6afea889225@127.0.0.1:10150
CREATED;VALUE=DATE-TIME:20220222T080600Z
LAST-MODIFIED;VALUE=DATE-TIME:20220711T210402Z
URL:https://gymnasium.ai.ch/nuetzliches/termine/maria-himmelfahrt-schulfre
 i-3
END:VEVENT
END:VCALENDAR
