BEGIN:VCALENDAR
VERSION:2.0
PRODID:-//Plone.org//NONSGML plone.app.event//EN
X-WR-TIMEZONE:Europe/Zurich
BEGIN:VEVENT
SUMMARY:Maria Himmelfahrt (schulfrei)
DTSTART;VALUE=DATE:20230815
DTEND;VALUE=DATE:20230816
DTSTAMP;VALUE=DATE-TIME:20260423T231616Z
UID:5585145ada774a909237fe4ed167382c@127.0.0.1:6081
CREATED;VALUE=DATE-TIME:20230712T081849Z
LAST-MODIFIED;VALUE=DATE-TIME:20230712T081856Z
URL:https://gymnasium.ai.ch/nuetzliches/termine/maria-himmelfahrt-schulfre
 i-4
END:VEVENT
END:VCALENDAR
