BEGIN:VCALENDAR
VERSION:2.0
PRODID:-//Plone.org//NONSGML plone.app.event//EN
X-WR-TIMEZONE:Europe/Zurich
BEGIN:VEVENT
SUMMARY:Maria Himmelfahrt (schulfrei)
DTSTART;VALUE=DATE:20240815
DTEND;VALUE=DATE:20240816
DTSTAMP;VALUE=DATE-TIME:20260423T231616Z
UID:0c65e47686f949e98ae59eef07bbc499@127.0.0.1:6081
CREATED;VALUE=DATE-TIME:20240703T205842Z
LAST-MODIFIED;VALUE=DATE-TIME:20240703T205847Z
URL:https://gymnasium.ai.ch/nuetzliches/termine/maria-himmelfahrt-schulfre
 i-5
END:VEVENT
END:VCALENDAR
