BEGIN:VCALENDAR
VERSION:2.0
PRODID:-//Plone.org//NONSGML plone.app.event//EN
X-WR-TIMEZONE:Europe/Zurich
BEGIN:VEVENT
SUMMARY:Maria Himmelfahrt (schulfrei)
DTSTART;VALUE=DATE:20180814
DTEND;VALUE=DATE:20180816
DTSTAMP;VALUE=DATE-TIME:20260423T231612Z
UID:2c4af954d1204fa79f44cacb335a7a63@127.0.0.1:10150
CREATED;VALUE=DATE-TIME:20180307T100237Z
LAST-MODIFIED;VALUE=DATE-TIME:20180511T065235Z
URL:https://gymnasium.ai.ch/nuetzliches/termine/maria-himmelfahrt-schulfre
 i
END:VEVENT
END:VCALENDAR
