BEGIN:VCALENDAR
VERSION:2.0
PRODID:-//Plone.org//NONSGML plone.app.event//EN
X-WR-TIMEZONE:Europe/Zurich
BEGIN:VEVENT
SUMMARY:Mathematik-Wettbewerb „Känguru“ (07.40 - 09.15 Uhr)
DTSTART;VALUE=DATE:20250320
DTEND;VALUE=DATE:20250321
DTSTAMP;VALUE=DATE-TIME:20260423T231824Z
UID:b1d86525e8f94211a9a10be011e97cd8@127.0.0.1:6081
CREATED;VALUE=DATE-TIME:20250226T073902Z
LAST-MODIFIED;VALUE=DATE-TIME:20250226T073908Z
URL:https://gymnasium.ai.ch/nuetzliches/termine/mathematik-wettbewerb-kaen
 guru-07-40-09-15-uhr
END:VEVENT
END:VCALENDAR
