BEGIN:VCALENDAR
VERSION:2.0
PRODID:-//Plone.org//NONSGML plone.app.event//EN
X-WR-TIMEZONE:Europe/Zurich
BEGIN:VEVENT
SUMMARY:Mathematik-Wettbewerb «Känguru»\, Vormittag
DTSTART;VALUE=DATE:20230316
DTEND;VALUE=DATE:20230317
DTSTAMP;VALUE=DATE-TIME:20260424T005309Z
UID:dd4cc75c18bc4a33a307cafa4a58d7dc@127.0.0.1:6081
CREATED;VALUE=DATE-TIME:20221013T163243Z
LAST-MODIFIED;VALUE=DATE-TIME:20221013T163520Z
URL:https://gymnasium.ai.ch/nuetzliches/termine/mathematik-wettbewerb-kaen
 guru-vormittag
END:VEVENT
END:VCALENDAR
