BEGIN:VCALENDAR
VERSION:2.0
PRODID:-//Plone.org//NONSGML plone.app.event//EN
X-WR-TIMEZONE:Europe/Zurich
BEGIN:VEVENT
SUMMARY:Mathematik-Wettbewerb
DTSTART;VALUE=DATE-TIME:20180315T073000Z
DTEND;VALUE=DATE-TIME:20180315T090000Z
DTSTAMP;VALUE=DATE-TIME:20260424T004421Z
UID:276e20bf9cca4f07b3ce48f2288625a0@127.0.0.1:10150
CREATED;VALUE=DATE-TIME:20180301T064114Z
DESCRIPTION:Mathematik-Wettbewerb „Känguru“ (Vormittag)
LAST-MODIFIED;VALUE=DATE-TIME:20180301T064118Z
URL:https://gymnasium.ai.ch/nuetzliches/termine/mathematik-wettbewerb
END:VEVENT
END:VCALENDAR
