BEGIN:VCALENDAR
VERSION:2.0
PRODID:-//Plone.org//NONSGML plone.app.event//EN
X-WR-TIMEZONE:Europe/Zurich
BEGIN:VEVENT
SUMMARY:Maturaarbeit
DTSTART;VALUE=DATE-TIME:20180302T060000Z
DTSTAMP;VALUE=DATE-TIME:20260424T004414Z
UID:45d1e006b3814dfebbc45a3de069b1f5@127.0.0.1:10150
CREATED;VALUE=DATE-TIME:20180301T062414Z
DESCRIPTION:Maturaarbeit Schuljahr 2018/19: Einführung allgemein 2. Teil 
 (5. Klasse)
LAST-MODIFIED;VALUE=DATE-TIME:20180301T062758Z
URL:https://gymnasium.ai.ch/nuetzliches/termine/maturaarbeit-1
END:VEVENT
END:VCALENDAR
