BEGIN:VCALENDAR
VERSION:2.0
PRODID:-//Plone.org//NONSGML plone.app.event//EN
X-WR-TIMEZONE:Europe/Zurich
BEGIN:VEVENT
SUMMARY:Maturaarbeit
DTSTART;VALUE=DATE:20180325
DTEND;VALUE=DATE:20180327
DTSTAMP;VALUE=DATE-TIME:20260423T231343Z
UID:cb3e265109af4a1497702fdeb3a2782e@127.0.0.1:10150
CREATED;VALUE=DATE-TIME:20180301T065342Z
DESCRIPTION:Maturaarbeit Schuljahr 2018/19: Präzise formulieren\, Fragest
 ellung (5. Klasse)
LAST-MODIFIED;VALUE=DATE-TIME:20180301T065345Z
URL:https://gymnasium.ai.ch/nuetzliches/termine/maturaarbeit-2
END:VEVENT
END:VCALENDAR
