BEGIN:VCALENDAR
VERSION:2.0
PRODID:-//Plone.org//NONSGML plone.app.event//EN
X-WR-TIMEZONE:Europe/Zurich
BEGIN:VEVENT
SUMMARY:Maturaarbeit 6. Gym: Abgabetermin
DTSTART;VALUE=DATE-TIME:20191104T160000Z
DTEND;VALUE=DATE-TIME:20191104T160000Z
DTSTAMP;VALUE=DATE-TIME:20260423T231539Z
UID:c71ccb78d03c4f529b75d675af723929@127.0.0.1:10150
CREATED;VALUE=DATE-TIME:20190707T113347Z
LAST-MODIFIED;VALUE=DATE-TIME:20190707T113352Z
URL:https://gymnasium.ai.ch/nuetzliches/termine/maturaarbeit-6-gym-abgabet
 ermin-1
END:VEVENT
END:VCALENDAR
