BEGIN:VCALENDAR
VERSION:2.0
PRODID:-//Plone.org//NONSGML plone.app.event//EN
X-WR-TIMEZONE:Europe/Zurich
BEGIN:VEVENT
SUMMARY:Maturaarbeit (6. Gym): Abgabetermin
DTSTART;VALUE=DATE-TIME:20181102T160000Z
DTEND;VALUE=DATE-TIME:20181102T160000Z
DTSTAMP;VALUE=DATE-TIME:20260424T004724Z
UID:9ffd630877134525ad01911b98949458@127.0.0.1:10150
CREATED;VALUE=DATE-TIME:20180928T120104Z
LAST-MODIFIED;VALUE=DATE-TIME:20180928T123948Z
URL:https://gymnasium.ai.ch/nuetzliches/termine/maturaarbeit-6-gym-abgabet
 ermin
END:VEVENT
END:VCALENDAR
