BEGIN:VCALENDAR
VERSION:2.0
PRODID:-//Plone.org//NONSGML plone.app.event//EN
X-WR-TIMEZONE:Europe/Zurich
BEGIN:VEVENT
SUMMARY:Maturaarbeit (6. Gym): Präsentation
DTSTART;VALUE=DATE-TIME:20181213T160000Z
DTEND;VALUE=DATE-TIME:20181213T200000Z
DTSTAMP;VALUE=DATE-TIME:20260423T231654Z
UID:b43ef061e4de4fd5bbeb31b206d20085@127.0.0.1:10150
CREATED;VALUE=DATE-TIME:20180928T122209Z
LAST-MODIFIED;VALUE=DATE-TIME:20181207T180621Z
URL:https://gymnasium.ai.ch/nuetzliches/termine/maturaarbeit-6-gym-praesen
 tation
END:VEVENT
END:VCALENDAR
