BEGIN:VCALENDAR
VERSION:2.0
PRODID:-//Plone.org//NONSGML plone.app.event//EN
X-WR-TIMEZONE:Europe/Zurich
BEGIN:VEVENT
SUMMARY:Maturaarbeit (6. Klassen): Abgabetermin (17.00 Uhr)
DTSTART;VALUE=DATE:20251027
DTEND;VALUE=DATE:20251028
DTSTAMP;VALUE=DATE-TIME:20260424T004911Z
UID:4750b6cf909448c19edc59baedb3cfc1@127.0.0.1:6081
CREATED;VALUE=DATE-TIME:20250719T193626Z
LAST-MODIFIED;VALUE=DATE-TIME:20250719T193631Z
URL:https://gymnasium.ai.ch/nuetzliches/termine/maturaarbeit-6-klassen-abg
 abetermin-17-00-uhr-1
END:VEVENT
END:VCALENDAR
