BEGIN:VCALENDAR
VERSION:2.0
PRODID:-//Plone.org//NONSGML plone.app.event//EN
X-WR-TIMEZONE:Europe/Zurich
BEGIN:VEVENT
SUMMARY:Maturaarbeit (6. Klassen): Abgabetermin (17.00 Uhr)
DTSTART;VALUE=DATE:20241028
DTEND;VALUE=DATE:20241029
DTSTAMP;VALUE=DATE-TIME:20260423T231702Z
UID:cf2f0d4d13024b1d8484eb51d870a586@127.0.0.1:6081
CREATED;VALUE=DATE-TIME:20240703T204540Z
LAST-MODIFIED;VALUE=DATE-TIME:20240703T204546Z
URL:https://gymnasium.ai.ch/nuetzliches/termine/maturaarbeit-6-klassen-abg
 abetermin-17-00-uhr
END:VEVENT
END:VCALENDAR
