BEGIN:VCALENDAR
VERSION:2.0
PRODID:-//Plone.org//NONSGML plone.app.event//EN
X-WR-TIMEZONE:Europe/Zurich
BEGIN:VEVENT
SUMMARY:Maturaarbeit (6. Klassen): Abgabetermin
DTSTART;VALUE=DATE-TIME:20211102T160000Z
DTEND;VALUE=DATE-TIME:20211102T160000Z
DTSTAMP;VALUE=DATE-TIME:20260423T231509Z
UID:f3cfcbc88bb849d6a8d205afe81c941c@127.0.0.1:10150
CREATED;VALUE=DATE-TIME:20211024T072009Z
LAST-MODIFIED;VALUE=DATE-TIME:20211024T072014Z
URL:https://gymnasium.ai.ch/nuetzliches/termine/maturaarbeit-6-klassen-abg
 abetermin
END:VEVENT
END:VCALENDAR
