BEGIN:VCALENDAR
VERSION:2.0
PRODID:-//Plone.org//NONSGML plone.app.event//EN
X-WR-TIMEZONE:Europe/Zurich
BEGIN:VEVENT
SUMMARY:Präsentation der Maturaarbeiten: 6. Klassen
DTSTART;TZID=Europe/Vienna;VALUE=DATE-TIME:20221215T180000
DTEND;TZID=Europe/Vienna;VALUE=DATE-TIME:20221215T200000
DTSTAMP;VALUE=DATE-TIME:20260424T004849Z
UID:7c2d4e22aef24cb7b03019bc5534483e@127.0.0.1:6081
CREATED;VALUE=DATE-TIME:20220711T210224Z
LAST-MODIFIED;VALUE=DATE-TIME:20221215T065754Z
URL:https://gymnasium.ai.ch/nuetzliches/termine/maturaarbeit-6-klassen-pra
 esentation-1
END:VEVENT
BEGIN:VTIMEZONE
TZID:Europe/Vienna
X-LIC-LOCATION:Europe/Vienna
BEGIN:STANDARD
DTSTART;VALUE=DATE-TIME:20221030T020000
TZNAME:CET
TZOFFSETFROM:+0200
TZOFFSETTO:+0100
END:STANDARD
END:VTIMEZONE
END:VCALENDAR
