BEGIN:VCALENDAR
VERSION:2.0
PRODID:-//Plone.org//NONSGML plone.app.event//EN
X-WR-TIMEZONE:Europe/Zurich
BEGIN:VEVENT
SUMMARY:Präsentation Maturitätsarbeiten 6. Klassen (18.00-20.45 Uhr)
DTSTART;VALUE=DATE:20241211
DTEND;VALUE=DATE:20241212
DTSTAMP;VALUE=DATE-TIME:20260423T231655Z
UID:154cafe0021d47ef879f6369b02febc0@127.0.0.1:6081
CREATED;VALUE=DATE-TIME:20240703T201637Z
LAST-MODIFIED;VALUE=DATE-TIME:20241210T191716Z
URL:https://gymnasium.ai.ch/nuetzliches/termine/maturaarbeit-6-klassen-pra
 esentation-2
END:VEVENT
END:VCALENDAR
