BEGIN:VCALENDAR
VERSION:2.0
PRODID:-//Plone.org//NONSGML plone.app.event//EN
X-WR-TIMEZONE:Europe/Zurich
BEGIN:VEVENT
SUMMARY:Präsentation Maturitätsarbeiten 6. Klassen (18.00-20.00 Uhr)
DTSTART;VALUE=DATE:20241212
DTEND;VALUE=DATE:20241213
DTSTAMP;VALUE=DATE-TIME:20260423T231654Z
UID:0db2f301043341079988b8061ddad2f0@127.0.0.1:6081
CREATED;VALUE=DATE-TIME:20240703T201813Z
LAST-MODIFIED;VALUE=DATE-TIME:20241210T191822Z
URL:https://gymnasium.ai.ch/nuetzliches/termine/maturaarbeit-6-klassen-pra
 esentation-3
END:VEVENT
END:VCALENDAR
