BEGIN:VCALENDAR
VERSION:2.0
PRODID:-//Plone.org//NONSGML plone.app.event//EN
X-WR-TIMEZONE:Europe/Zurich
BEGIN:VEVENT
SUMMARY:Präsentation der Maturitätsarbeiten (6. Klassen)
DTSTART;TZID=Europe/Zurich;VALUE=DATE-TIME:20251210T180000
DTEND;TZID=Europe/Zurich;VALUE=DATE-TIME:20251210T210000
DTSTAMP;VALUE=DATE-TIME:20260423T231653Z
UID:399054be34d5408b9054633da6b9aa29@127.0.0.1:6081
CREATED;VALUE=DATE-TIME:20250719T203307Z
LAST-MODIFIED;VALUE=DATE-TIME:20251210T135024Z
URL:https://gymnasium.ai.ch/nuetzliches/termine/maturaarbeit-6-klassen-pra
 esentation-4
END:VEVENT
BEGIN:VTIMEZONE
TZID:Europe/Zurich
X-LIC-LOCATION:Europe/Zurich
BEGIN:STANDARD
DTSTART;VALUE=DATE-TIME:20251026T020000
TZNAME:CET
TZOFFSETFROM:+0200
TZOFFSETTO:+0100
END:STANDARD
END:VTIMEZONE
END:VCALENDAR
