BEGIN:VCALENDAR
VERSION:2.0
PRODID:-//Plone.org//NONSGML plone.app.event//EN
X-WR-TIMEZONE:Europe/Zurich
BEGIN:VEVENT
SUMMARY:Maturaarbeit 6. Klassen: Präsentation
DTSTART;TZID=Europe/Vienna;VALUE=DATE-TIME:20221214T180000
DTEND;TZID=Europe/Vienna;VALUE=DATE-TIME:20221214T210000
DTSTAMP;VALUE=DATE-TIME:20260424T004823Z
UID:49767c13433245fba99d3ece95d6d6f8@127.0.0.1:6081
CREATED;VALUE=DATE-TIME:20220711T210028Z
LAST-MODIFIED;VALUE=DATE-TIME:20220711T210038Z
URL:https://gymnasium.ai.ch/nuetzliches/termine/maturaarbeit-6-klassen-pra
 esentation
END:VEVENT
BEGIN:VTIMEZONE
TZID:Europe/Vienna
X-LIC-LOCATION:Europe/Vienna
BEGIN:STANDARD
DTSTART;VALUE=DATE-TIME:20221030T020000
TZNAME:CET
TZOFFSETFROM:+0200
TZOFFSETTO:+0100
END:STANDARD
END:VTIMEZONE
END:VCALENDAR
