BEGIN:VCALENDAR
VERSION:2.0
PRODID:-//Plone.org//NONSGML plone.app.event//EN
X-WR-TIMEZONE:Europe/Zurich
BEGIN:VEVENT
SUMMARY:Maturaarbeit Abgabetermin: 6. Klassen
DTSTART;VALUE=DATE-TIME:20201102T160000Z
DTEND;VALUE=DATE-TIME:20201102T160000Z
DTSTAMP;VALUE=DATE-TIME:20260423T231506Z
UID:e956fc1b2544455a8dbbec19e708fc2f@127.0.0.1:10150
CREATED;VALUE=DATE-TIME:20201007T124542Z
LAST-MODIFIED;VALUE=DATE-TIME:20201007T124547Z
URL:https://gymnasium.ai.ch/nuetzliches/termine/maturaarbeit-abgabetermin-
 6-klassen
END:VEVENT
END:VCALENDAR
