BEGIN:VCALENDAR
VERSION:2.0
PRODID:-//Plone.org//NONSGML plone.app.event//EN
X-WR-TIMEZONE:Europe/Zurich
BEGIN:VEVENT
SUMMARY:Maturaarbeit Schuljahr 2021/22: Konzeptgenehmigung durch Rektorat
DTSTART;VALUE=DATE:20210510
DTEND;VALUE=DATE:20210512
DTSTAMP;VALUE=DATE-TIME:20260423T231817Z
UID:a7a9e8b8c10246ed81281b8df73b1409@127.0.0.1:10150
CREATED;VALUE=DATE-TIME:20210417T193455Z
LAST-MODIFIED;VALUE=DATE-TIME:20210417T193500Z
URL:https://gymnasium.ai.ch/nuetzliches/termine/maturaarbeit-schuljahr-202
 1-22-konzeptgenehmigung-durch-rektorat
END:VEVENT
END:VCALENDAR
