BEGIN:VCALENDAR
VERSION:2.0
PRODID:-//Plone.org//NONSGML plone.app.event//EN
X-WR-TIMEZONE:Europe/Zurich
BEGIN:VEVENT
SUMMARY:5. Klassen: Maturaarbeit Schuljahr 2023/24 - Konzeptabgabe an Sekr
 etariat
DTSTART;TZID=Europe/Vienna;VALUE=DATE-TIME:20230428T170000
DTEND;TZID=Europe/Vienna;VALUE=DATE-TIME:20230428T170000
DTSTAMP;VALUE=DATE-TIME:20260424T021244Z
UID:f68e1ece7da6468e88fe531ca99e5432@127.0.0.1:6081
CREATED;VALUE=DATE-TIME:20221013T165304Z
LAST-MODIFIED;VALUE=DATE-TIME:20221013T165439Z
URL:https://gymnasium.ai.ch/nuetzliches/termine/maturaarbeit-schuljahr-202
 3-24-konzeptabgabe-an-sekretariat-5-klassen
END:VEVENT
BEGIN:VTIMEZONE
TZID:Europe/Vienna
X-LIC-LOCATION:Europe/Vienna
BEGIN:DAYLIGHT
DTSTART;VALUE=DATE-TIME:20230326T030000
TZNAME:CEST
TZOFFSETFROM:+0100
TZOFFSETTO:+0200
END:DAYLIGHT
END:VTIMEZONE
END:VCALENDAR
