BEGIN:VCALENDAR
VERSION:2.0
PRODID:-//Plone.org//NONSGML plone.app.event//EN
X-WR-TIMEZONE:Europe/Zurich
BEGIN:VEVENT
SUMMARY:Maturaarbeit Schuljahr 2024/25: 5. Klassen - Konzeptabgabe an Sekr
 etariat bis 17 Uhr
DTSTART;VALUE=DATE:20240426
DTEND;VALUE=DATE:20240427
DTSTAMP;VALUE=DATE-TIME:20260424T005706Z
UID:c0b47d868bff478784fa6ac6400cefaa@127.0.0.1:6081
CREATED;VALUE=DATE-TIME:20240419T090334Z
LAST-MODIFIED;VALUE=DATE-TIME:20240419T090555Z
URL:https://gymnasium.ai.ch/nuetzliches/termine/maturaarbeit-schuljahr-202
 4-25-konzeptabgabe-an-sekretariat-5-klassen
END:VEVENT
END:VCALENDAR
