BEGIN:VCALENDAR
VERSION:2.0
PRODID:-//Plone.org//NONSGML plone.app.event//EN
X-WR-TIMEZONE:Europe/Zurich
BEGIN:VEVENT
SUMMARY:Maturaarbeit
DTSTART;VALUE=DATE-TIME:20180226T151500Z
DTSTAMP;VALUE=DATE-TIME:20260424T004609Z
UID:6b5314c513944b37b80dae468a05668b@127.0.0.1:10150
CREATED;VALUE=DATE-TIME:20180129T093830Z
DESCRIPTION:Maturaarbeit Schuljahr 2018/19: Einführung allgemein 1. Teil 
 (5. Klasse)
LAST-MODIFIED;VALUE=DATE-TIME:20180129T093837Z
URL:https://gymnasium.ai.ch/nuetzliches/termine/maturaarbeit
END:VEVENT
END:VCALENDAR
