BEGIN:VCALENDAR
VERSION:2.0
PRODID:-//Plone.org//NONSGML plone.app.event//EN
X-WR-TIMEZONE:Europe/Zurich
BEGIN:VEVENT
SUMMARY:Maturaarbeitspräsentationen (6. Klassen)
DTSTART;VALUE=DATE-TIME:20220406T160000Z
DTEND;VALUE=DATE-TIME:20220406T183000Z
DTSTAMP;VALUE=DATE-TIME:20260424T004848Z
UID:5e28e36496154c6f8c7c1149363e5277@127.0.0.1:10150
CREATED;VALUE=DATE-TIME:20211207T205449Z
LAST-MODIFIED;VALUE=DATE-TIME:20220222T125713Z
URL:https://gymnasium.ai.ch/nuetzliches/termine/maturaarbeitspraesentation
 en-6-klassen-1
END:VEVENT
END:VCALENDAR
