BEGIN:VCALENDAR
VERSION:2.0
PRODID:-//Plone.org//NONSGML plone.app.event//EN
X-WR-TIMEZONE:Europe/Zurich
BEGIN:VEVENT
SUMMARY:Maturaarbeitspräsentationen (6. Klassen)
DTSTART;VALUE=DATE-TIME:20220407T160000Z
DTEND;VALUE=DATE-TIME:20220407T163000Z
DTSTAMP;VALUE=DATE-TIME:20260423T231655Z
UID:71589f42714d4db6881c1d99f07d0a2e@127.0.0.1:10150
CREATED;VALUE=DATE-TIME:20220222T125249Z
LAST-MODIFIED;VALUE=DATE-TIME:20220222T125253Z
URL:https://gymnasium.ai.ch/nuetzliches/termine/maturaarbeitspraesentation
 en-6-klassen-2
END:VEVENT
END:VCALENDAR
