BEGIN:VCALENDAR
VERSION:2.0
PRODID:-//Plone.org//NONSGML plone.app.event//EN
X-WR-TIMEZONE:Europe/Zurich
BEGIN:VEVENT
SUMMARY:Maturaarbeitspräsentationen (6. Klassen): Verschoben auf 05.04.20
 22.
DTSTART;VALUE=DATE-TIME:20211215T170000Z
DTEND;VALUE=DATE-TIME:20211215T200000Z
DTSTAMP;VALUE=DATE-TIME:20260424T005534Z
UID:858f94fe3f3b44faaa617b0978fadb83@127.0.0.1:10150
CREATED;VALUE=DATE-TIME:20211207T192634Z
LAST-MODIFIED;VALUE=DATE-TIME:20211207T192638Z
URL:https://gymnasium.ai.ch/nuetzliches/termine/maturaarbeitspraesentation
 en-6-klassen-verschoben-auf-05-04-2022
END:VEVENT
END:VCALENDAR
