BEGIN:VCALENDAR
VERSION:2.0
PRODID:-//Plone.org//NONSGML plone.app.event//EN
X-WR-TIMEZONE:Europe/Zurich
BEGIN:VEVENT
SUMMARY:Maturaarbeitspräsentationen (6. Klassen): Verschoben auf 06.04.20
 22.
DTSTART;VALUE=DATE-TIME:20211216T160000Z
DTEND;VALUE=DATE-TIME:20211216T200000Z
DTSTAMP;VALUE=DATE-TIME:20260423T231818Z
UID:958e772fbfc84b03aed2501ce2ec1651@127.0.0.1:10150
CREATED;VALUE=DATE-TIME:20211207T192857Z
LAST-MODIFIED;VALUE=DATE-TIME:20211207T192901Z
URL:https://gymnasium.ai.ch/nuetzliches/termine/maturaarbeitspraesentation
 en-6-klassen-verschoben-auf-06-04-2022
END:VEVENT
END:VCALENDAR
