BEGIN:VCALENDAR
VERSION:2.0
PRODID:-//Plone.org//NONSGML plone.app.event//EN
X-WR-TIMEZONE:Europe/Zurich
BEGIN:VEVENT
SUMMARY:Maturaarbeitspräsentationen (6. Klassen)
DTSTART;VALUE=DATE-TIME:20220405T160000Z
DTEND;VALUE=DATE-TIME:20220405T183000Z
DTSTAMP;VALUE=DATE-TIME:20260424T004823Z
UID:c99cdd24ab294b5cb12df3a34e7a3dcf@127.0.0.1:10150
CREATED;VALUE=DATE-TIME:20211207T204955Z
LAST-MODIFIED;VALUE=DATE-TIME:20220222T125640Z
URL:https://gymnasium.ai.ch/nuetzliches/termine/maturaarbeitspraesentation
 en-6-klassen
END:VEVENT
END:VCALENDAR
