BEGIN:VCALENDAR
VERSION:2.0
PRODID:-//Plone.org//NONSGML plone.app.event//EN
X-WR-TIMEZONE:Europe/Zurich
BEGIN:VEVENT
SUMMARY:Maturafeier
DTSTART;VALUE=DATE-TIME:20190614T150000Z
DTEND;VALUE=DATE-TIME:20190614T163000Z
DTSTAMP;VALUE=DATE-TIME:20260423T231402Z
UID:05f3a9e9b3374a7197d130a5629ab420@127.0.0.1:10150
CREATED;VALUE=DATE-TIME:20181218T090029Z
LAST-MODIFIED;VALUE=DATE-TIME:20190613T063948Z
LOCATION:Innenhof Gymnasium
URL:https://gymnasium.ai.ch/nuetzliches/termine/maturafeier-1
END:VEVENT
END:VCALENDAR
