BEGIN:VCALENDAR
VERSION:2.0
PRODID:-//Plone.org//NONSGML plone.app.event//EN
X-WR-TIMEZONE:Europe/Zurich
BEGIN:VEVENT
SUMMARY:Maturafeier
DTSTART;VALUE=DATE-TIME:20200619T150000Z
DTEND;VALUE=DATE-TIME:20200619T163000Z
DTSTAMP;VALUE=DATE-TIME:20260424T004609Z
UID:8ace46c6222e4c2597c8c81ffbf53b12@127.0.0.1:10150
CREATED;VALUE=DATE-TIME:20190707T180933Z
LAST-MODIFIED;VALUE=DATE-TIME:20190707T180937Z
URL:https://gymnasium.ai.ch/nuetzliches/termine/maturafeier-2
END:VEVENT
END:VCALENDAR
