BEGIN:VCALENDAR
VERSION:2.0
PRODID:-//Plone.org//NONSGML plone.app.event//EN
X-WR-TIMEZONE:Europe/Zurich
BEGIN:VEVENT
SUMMARY:Maturafeier
DTSTART;VALUE=DATE-TIME:20220617T150000Z
DTEND;VALUE=DATE-TIME:20220617T163000Z
DTSTAMP;VALUE=DATE-TIME:20260423T231344Z
UID:86fcd3eb57de4ca493fd473d2e4e8708@127.0.0.1:10150
CREATED;VALUE=DATE-TIME:20220118T104158Z
LAST-MODIFIED;VALUE=DATE-TIME:20220118T104201Z
URL:https://gymnasium.ai.ch/nuetzliches/termine/maturafeier-4
END:VEVENT
END:VCALENDAR
