BEGIN:VCALENDAR
VERSION:2.0
PRODID:-//Plone.org//NONSGML plone.app.event//EN
X-WR-TIMEZONE:Europe/Zurich
BEGIN:VEVENT
SUMMARY:Maturafeier
DTSTART;TZID=Europe/Vienna;VALUE=DATE-TIME:20230616T170000
DTEND;TZID=Europe/Vienna;VALUE=DATE-TIME:20230616T183000
DTSTAMP;VALUE=DATE-TIME:20260423T231405Z
UID:be3be58438e94780a8563a785f8ac7e7@127.0.0.1:6081
CREATED;VALUE=DATE-TIME:20221012T182052Z
LAST-MODIFIED;VALUE=DATE-TIME:20221012T182103Z
URL:https://gymnasium.ai.ch/nuetzliches/termine/maturafeier-5
END:VEVENT
BEGIN:VTIMEZONE
TZID:Europe/Vienna
X-LIC-LOCATION:Europe/Vienna
BEGIN:DAYLIGHT
DTSTART;VALUE=DATE-TIME:20230326T030000
TZNAME:CEST
TZOFFSETFROM:+0100
TZOFFSETTO:+0200
END:DAYLIGHT
END:VTIMEZONE
END:VCALENDAR
