BEGIN:VCALENDAR
VERSION:2.0
PRODID:-//Plone.org//NONSGML plone.app.event//EN
X-WR-TIMEZONE:Europe/Zurich
BEGIN:VEVENT
SUMMARY:Maturafeier
DTSTART;TZID=Europe/Zurich;VALUE=DATE-TIME:20240614T170000
DTEND;TZID=Europe/Zurich;VALUE=DATE-TIME:20240614T183000
DTSTAMP;VALUE=DATE-TIME:20260423T231356Z
UID:270693666da24a119bfb6706b73e873d@127.0.0.1:6081
CREATED;VALUE=DATE-TIME:20240202T150041Z
LAST-MODIFIED;VALUE=DATE-TIME:20240202T150048Z
URL:https://gymnasium.ai.ch/nuetzliches/termine/maturafeier-6
END:VEVENT
BEGIN:VTIMEZONE
TZID:Europe/Zurich
X-LIC-LOCATION:Europe/Zurich
BEGIN:DAYLIGHT
DTSTART;VALUE=DATE-TIME:20240331T030000
TZNAME:CEST
TZOFFSETFROM:+0100
TZOFFSETTO:+0200
END:DAYLIGHT
END:VTIMEZONE
END:VCALENDAR
