BEGIN:VCALENDAR
VERSION:2.0
PRODID:-//Plone.org//NONSGML plone.app.event//EN
X-WR-TIMEZONE:Europe/Zurich
BEGIN:VEVENT
SUMMARY:Maturafeier
DTSTART;TZID=Europe/Zurich;VALUE=DATE-TIME:20250620T170000
DTEND;TZID=Europe/Zurich;VALUE=DATE-TIME:20250620T183000
DTSTAMP;VALUE=DATE-TIME:20260423T231344Z
UID:9c5b8b813bb746dfb5241fb2f8f4d192@127.0.0.1:6081
CREATED;VALUE=DATE-TIME:20240927T142759Z
LAST-MODIFIED;VALUE=DATE-TIME:20240927T142806Z
URL:https://gymnasium.ai.ch/nuetzliches/termine/maturafeier-7
END:VEVENT
BEGIN:VTIMEZONE
TZID:Europe/Zurich
X-LIC-LOCATION:Europe/Zurich
BEGIN:DAYLIGHT
DTSTART;VALUE=DATE-TIME:20250330T030000
TZNAME:CEST
TZOFFSETFROM:+0100
TZOFFSETTO:+0200
END:DAYLIGHT
END:VTIMEZONE
END:VCALENDAR
