BEGIN:VCALENDAR
VERSION:2.0
PRODID:-//Plone.org//NONSGML plone.app.event//EN
X-WR-TIMEZONE:Europe/Zurich
BEGIN:VEVENT
SUMMARY:Maturafeier
DTSTART;VALUE=DATE-TIME:20180615T150000Z
DTEND;VALUE=DATE-TIME:20180615T163000Z
DTSTAMP;VALUE=DATE-TIME:20260424T004254Z
UID:ca95d80011fe4001bd48952c7d4b7d2a@127.0.0.1:10150
CREATED;VALUE=DATE-TIME:20180307T091208Z
LAST-MODIFIED;VALUE=DATE-TIME:20180511T063846Z
URL:https://gymnasium.ai.ch/nuetzliches/termine/maturafeier
END:VEVENT
END:VCALENDAR
