BEGIN:VCALENDAR
VERSION:2.0
PRODID:-//Plone.org//NONSGML plone.app.event//EN
X-WR-TIMEZONE:Europe/Zurich
BEGIN:VEVENT
SUMMARY:Maturaklassen: Seealpseetag / Ende ordentlicher Unterricht
DTSTART;VALUE=DATE:20230512
DTEND;VALUE=DATE:20230513
DTSTAMP;VALUE=DATE-TIME:20260423T231808Z
UID:05c5667c073941cf9d653917e54d4d6f@127.0.0.1:6081
CREATED;VALUE=DATE-TIME:20221013T170933Z
LAST-MODIFIED;VALUE=DATE-TIME:20230423T070904Z
URL:https://gymnasium.ai.ch/nuetzliches/termine/maturaklasse-ende-ordentli
 cher-unterricht-1
END:VEVENT
END:VCALENDAR
