BEGIN:VCALENDAR
VERSION:2.0
PRODID:-//Plone.org//NONSGML plone.app.event//EN
X-WR-TIMEZONE:Europe/Zurich
BEGIN:VEVENT
SUMMARY:Maturaklasse: Ende ordentlicher Unterricht
DTSTART;VALUE=DATE-TIME:20180516T060000Z
DTEND;VALUE=DATE-TIME:20180516T100000Z
DTSTAMP;VALUE=DATE-TIME:20260423T231827Z
UID:1ad653ab206f4caa9a23914d3ace4cc7@127.0.0.1:10150
CREATED;VALUE=DATE-TIME:20180307T093336Z
LAST-MODIFIED;VALUE=DATE-TIME:20180511T063546Z
URL:https://gymnasium.ai.ch/nuetzliches/termine/maturaklasse-ende-ordentli
 cher-unterricht
END:VEVENT
END:VCALENDAR
