BEGIN:VCALENDAR
VERSION:2.0
PRODID:-//Plone.org//NONSGML plone.app.event//EN
X-WR-TIMEZONE:Europe/Zurich
BEGIN:VEVENT
SUMMARY:Maturaklassen: Ende ordentlicher Unterricht
DTSTART;VALUE=DATE:20240515
DTEND;VALUE=DATE:20240516
DTSTAMP;VALUE=DATE-TIME:20260423T231811Z
UID:b92656809d5d41f693d26a246c5f8e21@127.0.0.1:6081
CREATED;VALUE=DATE-TIME:20240202T161056Z
LAST-MODIFIED;VALUE=DATE-TIME:20240202T161100Z
URL:https://gymnasium.ai.ch/nuetzliches/termine/maturaklassen-ende-ordentl
 icher-unterricht-1
END:VEVENT
END:VCALENDAR
