BEGIN:VCALENDAR
VERSION:2.0
PRODID:-//Plone.org//NONSGML plone.app.event//EN
X-WR-TIMEZONE:Europe/Zurich
BEGIN:VEVENT
SUMMARY:Maturaklassen: Ende ordentlicher Unterricht / Abschlussgottesdiens
 t am Seealpsee
DTSTART;VALUE=DATE:20210518
DTEND;VALUE=DATE:20210520
DTSTAMP;VALUE=DATE-TIME:20260424T021345Z
UID:55a1a69c64c947b7abe1c0b3cebdb479@127.0.0.1:10150
CREATED;VALUE=DATE-TIME:20210417T194208Z
LAST-MODIFIED;VALUE=DATE-TIME:20210417T194214Z
URL:https://gymnasium.ai.ch/nuetzliches/termine/maturaklassen-ende-ordentl
 icher-unterricht-abschlussgottesdienst-am-seealpsee
END:VEVENT
END:VCALENDAR
