BEGIN:VCALENDAR
VERSION:2.0
PRODID:-//Plone.org//NONSGML plone.app.event//EN
X-WR-TIMEZONE:Europe/Zurich
BEGIN:VEVENT
SUMMARY:Maturaklassen: Ende ordentlicher Unterricht
DTSTART;VALUE=DATE:20220512
DTEND;VALUE=DATE:20220514
DTSTAMP;VALUE=DATE-TIME:20260423T231829Z
UID:2c445d8306ac4933bc8f6d51961b9e82@127.0.0.1:10150
CREATED;VALUE=DATE-TIME:20220506T092300Z
LAST-MODIFIED;VALUE=DATE-TIME:20220506T092304Z
URL:https://gymnasium.ai.ch/nuetzliches/termine/maturaklassen-ende-ordentl
 icher-unterricht
END:VEVENT
END:VCALENDAR
