BEGIN:VCALENDAR
VERSION:2.0
PRODID:-//Plone.org//NONSGML plone.app.event//EN
X-WR-TIMEZONE:Europe/Zurich
BEGIN:VEVENT
SUMMARY:Maturaklassen: Intensivrepetition
DTSTART;VALUE=DATE:20230515
DTEND;VALUE=DATE:20230527
DTSTAMP;VALUE=DATE-TIME:20260423T231653Z
UID:3afddb96da23464195fabe1ca781812e@127.0.0.1:6081
CREATED;VALUE=DATE-TIME:20221013T172333Z
LAST-MODIFIED;VALUE=DATE-TIME:20230423T070407Z
URL:https://gymnasium.ai.ch/nuetzliches/termine/maturaklassen-intensivrepe
 tition-1
END:VEVENT
END:VCALENDAR
