BEGIN:VCALENDAR
VERSION:2.0
PRODID:-//Plone.org//NONSGML plone.app.event//EN
X-WR-TIMEZONE:Europe/Zurich
BEGIN:VEVENT
SUMMARY:Maturaklassen: Intensivrepetition
DTSTART;VALUE=DATE:20240516
DTEND;VALUE=DATE:20240525
DTSTAMP;VALUE=DATE-TIME:20260424T005309Z
UID:3b0c5391c750429e86b90b85d0305f79@127.0.0.1:6081
CREATED;VALUE=DATE-TIME:20240202T161448Z
LAST-MODIFIED;VALUE=DATE-TIME:20240202T161453Z
URL:https://gymnasium.ai.ch/nuetzliches/termine/maturaklassen-intensivrepe
 tition-2
END:VEVENT
END:VCALENDAR
