BEGIN:VCALENDAR
VERSION:2.0
PRODID:-//Plone.org//NONSGML plone.app.event//EN
X-WR-TIMEZONE:Europe/Zurich
BEGIN:VEVENT
SUMMARY:Maturaklassen: Intensivrepetition
DTSTART;VALUE=DATE:20210519
DTEND;VALUE=DATE:20210529
DTSTAMP;VALUE=DATE-TIME:20260423T231614Z
UID:391532fbeacc4a839dc923b635e41ed1@127.0.0.1:10150
CREATED;VALUE=DATE-TIME:20210417T194602Z
LAST-MODIFIED;VALUE=DATE-TIME:20210417T194605Z
URL:https://gymnasium.ai.ch/nuetzliches/termine/maturaklassen-intensivrepe
 tition
END:VEVENT
END:VCALENDAR
